BEGIN:VCALENDAR
VERSION:2.0
PRODID:City of Tigard Calendar Creator
METHOD:PUBLISH
BEGIN:VEVENT
DTSTAMP:20260414T085343
DTSTART:20260421T083000
DTEND:20260421T100000
SUMMARY:New Business Connect
DESCRIPTION:<p>This meeting welcomes new businesses to the City of Tigard, offering an opportunity to connect with the Economic Development team, learn about available resources, and network with other local business owners.</p><p><strong>Register: </strong>Please <a href="https://forms.cloud.microsoft/g/Rg66esWYEG" target="_blank" rel="noopener">RSVP online</a> to attend this meeting.&nbsp;</p><p>This meeting is hosted by the Economic Development Team.</p>
X-ALT-DESC;FMTTYPE=text/html:<p>This meeting welcomes new businesses to the City of Tigard, offering an opportunity to connect with the Economic Development team, learn about available resources, and network with other local business owners.</p><p><strong>Register: </strong>Please <a href="https://forms.cloud.microsoft/g/Rg66esWYEG" target="_blank" rel="noopener">RSVP online</a> to attend this meeting.&nbsp;</p><p>This meeting is hosted by the Economic Development Team.</p>
LOCATION:Public Works Auditorium\, 8777 SW Burnham Street Tigard\, Oregon 97223
CLASS:PUBLIC
END:VEVENT
END:VCALENDAR
