BEGIN:VCALENDAR
VERSION:2.0
PRODID:City of Tigard Calendar Creator
METHOD:PUBLISH
BEGIN:VEVENT
DTSTAMP:20260413T071501
DTSTART:20260805T170000
DTEND:20260805T203000
SUMMARY:Concerts in the Park: Hit Machine
DESCRIPTION:<p><b>HIT MACHINE</b></p><p>Join Tigard Parks &amp; Rec for a warm summer evening of dancing and music! Grab your lawn chairs, bring the family, and enjoy a evening filled with great tunes. Don’t miss out on this exciting concert in the park!</p><p><a href="https://www.machine-entertainment.com/hit-machine" target="_blank" rel="noopener">Hit Machine</a> is a high-energy, five-piece band that keeps the crowd moving! Led by dynamic frontman Bart Hafeman, they deliver dance hits from every era, covering artists like Prince, Bruno Mars, AC/DC, and The Bee Gees. Their interactive performances create an electrifying atmosphere, with setlists customized for each audience. Get ready to dance, sing along, and experience the excitement of Hit Machine live! </p><p>Free | 5–8:30 PM, music starts at 6:30 PM </p><p><b>Food Vendors:</b> <a href="https://www.facebook.com/p/RB-WOK-GRILL-100078059299329/">RB Wok &amp; Grill</a>, <a href="https://arrowcoffeeanddesserts.com/">Arrow Coffee and Desserts,</a> <a href="https://www.facebook.com/lauras.specialty.banana.bread/">Laura’s Home Baked 4 U</a>, <a href="https://www.instagram.com/cha_chas_cookies/">Cha Cha’s Cookies</a>, <a href="https://www.instagram.com/konaiceoftigardandhillsboro/">Kona Ice</a>, <a href="https://www.instagram.com/bobagems/">Boba Gems</a>, <a href="https://www.instagram.com/antojitosdianas/">Frutas Y Antojitos Diana’s</a>, <a href="https://www.asonacuisine.com/">Asona Cuisine</a> &amp; <a href="https://www.instagram.com/veggiesnaxx/">Veggie Snax</a> </p><p><b>Exhibitors:</b> <a href="https://www.facebook.com/p/Sweet-Do-Fairy-Hair-61575603680407/">Sweet Do Fairy Hair</a>, <a href="https://many-stages.com/">Many Stages LLC</a>, <a href="https://www.aarp.org/states/oregon/">AARP</a>, <a href="https://damselindefense.net/">Damsel in Defense</a>, <a href="https://www.tigard-or.gov/your-government/departments/community-development/planning/projects/tigard-home">Tigard HOME</a></p><p>Be sure to check out our <a href="https://anprod.active.com/tigard/servlet/downloadFile.sdi?uploadedfile_id=VGFxU3RsT29XRXk2am9ja1ZpZ0F2QT09" target="_blank" rel="noopener">Event FAQ</a>.</p><p>Questions? Email <a href="mailto:&#107;&#97;&#105;&#116;&#108;&#121;&#110;&#108;&#64;&#116;&#105;&#103;&#97;&#114;&#100;&#45;&#111;&#114;&#46;&#103;&#111;&#118;">Kaitlyn</a> or call at <a href="tel:5037182604" target="_blank" rel="noopener">503.718.2604</a></p><p></p>
X-ALT-DESC;FMTTYPE=text/html:<p><b>HIT MACHINE</b></p><p>Join Tigard Parks &amp; Rec for a warm summer evening of dancing and music! Grab your lawn chairs, bring the family, and enjoy a evening filled with great tunes. Don’t miss out on this exciting concert in the park!</p><p><a href="https://www.machine-entertainment.com/hit-machine" target="_blank" rel="noopener">Hit Machine</a> is a high-energy, five-piece band that keeps the crowd moving! Led by dynamic frontman Bart Hafeman, they deliver dance hits from every era, covering artists like Prince, Bruno Mars, AC/DC, and The Bee Gees. Their interactive performances create an electrifying atmosphere, with setlists customized for each audience. Get ready to dance, sing along, and experience the excitement of Hit Machine live! </p><p>Free | 5–8:30 PM, music starts at 6:30 PM </p><p><b>Food Vendors:</b> <a href="https://www.facebook.com/p/RB-WOK-GRILL-100078059299329/">RB Wok &amp; Grill</a>, <a href="https://arrowcoffeeanddesserts.com/">Arrow Coffee and Desserts,</a> <a href="https://www.facebook.com/lauras.specialty.banana.bread/">Laura’s Home Baked 4 U</a>, <a href="https://www.instagram.com/cha_chas_cookies/">Cha Cha’s Cookies</a>, <a href="https://www.instagram.com/konaiceoftigardandhillsboro/">Kona Ice</a>, <a href="https://www.instagram.com/bobagems/">Boba Gems</a>, <a href="https://www.instagram.com/antojitosdianas/">Frutas Y Antojitos Diana’s</a>, <a href="https://www.asonacuisine.com/">Asona Cuisine</a> &amp; <a href="https://www.instagram.com/veggiesnaxx/">Veggie Snax</a> </p><p><b>Exhibitors:</b> <a href="https://www.facebook.com/p/Sweet-Do-Fairy-Hair-61575603680407/">Sweet Do Fairy Hair</a>, <a href="https://many-stages.com/">Many Stages LLC</a>, <a href="https://www.aarp.org/states/oregon/">AARP</a>, <a href="https://damselindefense.net/">Damsel in Defense</a>, <a href="https://www.tigard-or.gov/your-government/departments/community-development/planning/projects/tigard-home">Tigard HOME</a></p><p>Be sure to check out our <a href="https://anprod.active.com/tigard/servlet/downloadFile.sdi?uploadedfile_id=VGFxU3RsT29XRXk2am9ja1ZpZ0F2QT09" target="_blank" rel="noopener">Event FAQ</a>.</p><p>Questions? Email <a href="mailto:&#107;&#97;&#105;&#116;&#108;&#121;&#110;&#108;&#64;&#116;&#105;&#103;&#97;&#114;&#100;&#45;&#111;&#114;&#46;&#103;&#111;&#118;">Kaitlyn</a> or call at <a href="tel:5037182604" target="_blank" rel="noopener">503.718.2604</a></p><p></p>
LOCATION:Cook Family Park\, 17005 SW 92nd Avenue Tigard\, Oregon 97224
CLASS:PUBLIC
END:VEVENT
END:VCALENDAR
