BEGIN:VCALENDAR
VERSION:2.0
PRODID:City of Tigard Calendar Creator
METHOD:PUBLISH
BEGIN:VEVENT
DTSTAMP:20260409T083938
DTSTART:20260428T000000
DTEND:20260531T235900
SUMMARY:Just Ask Gen Z (and Alpha!)
DESCRIPTION:Is the modern world perplexing? Looking for encouragement, a book recommendation, or just some random, weird facts? Submit your question at the Library and an actual, real-life Teen Library Council member will compose a reply! You can peruse the Just Ask Gen Z notebook to see even more of their witty retorts and words of wisdom.
X-ALT-DESC;FMTTYPE=text/html:Is the modern world perplexing? Looking for encouragement, a book recommendation, or just some random, weird facts? Submit your question at the Library and an actual, real-life Teen Library Council member will compose a reply! You can peruse the Just Ask Gen Z notebook to see even more of their witty retorts and words of wisdom.
LOCATION:Tigard Public Library\, Temporary: 13125 SW Hall Blvd.\, Permanent: 13500 SW Hall Blvd. Tigard\, Oregon 97223
CLASS:PUBLIC
END:VEVENT
END:VCALENDAR
