BEGIN:VCALENDAR
VERSION:2.0
PRODID:City of Tigard Calendar Creator
METHOD:PUBLISH
BEGIN:VEVENT
DTSTAMP:20251007T113228
DTSTART:20251015T110000
DTEND:20251015T123000
SUMMARY:Street Maintenance Fee – Business Forum Listening Session
DESCRIPTION:<p>Please join us for a luncheon presented by the City of Tigard and the Tigard Chamber of Commerce. Engineering firm Kittleson &amp; Associates will be providing an overview of the new Street Maintenance Fee code, which will be proposed to the Tigard City Council in early 2026.</p><p>Lunch will be provided.</p><p>Registration is not required but highly recommend. <a href="https://business.tigardchamber.org/events/details/street-maintenance-fee-business-listening-session-19264?calendarMonth=2025-10-01" target="_blank" rel="noopener">Register here.</a>&nbsp;</p>
X-ALT-DESC;FMTTYPE=text/html:<p>Please join us for a luncheon presented by the City of Tigard and the Tigard Chamber of Commerce. Engineering firm Kittleson &amp; Associates will be providing an overview of the new Street Maintenance Fee code, which will be proposed to the Tigard City Council in early 2026.</p><p>Lunch will be provided.</p><p>Registration is not required but highly recommend. <a href="https://business.tigardchamber.org/events/details/street-maintenance-fee-business-listening-session-19264?calendarMonth=2025-10-01" target="_blank" rel="noopener">Register here.</a>&nbsp;</p>
LOCATION:Tigard Public Library - Burgess Community Room\, 13500 SW Hall Blvd Tigard\, Oregon 97223
CLASS:PUBLIC
END:VEVENT
END:VCALENDAR
